BEGIN:VCALENDAR
VERSION:2.0
PRODID:-//Republican Club of Hasbrought Heights - ECPv6.15.20//NONSGML v1.0//EN
CALSCALE:GREGORIAN
METHOD:PUBLISH
X-WR-CALNAME:Republican Club of Hasbrought Heights
X-ORIGINAL-URL:https://republicanclubofhh.com
X-WR-CALDESC:Events for Republican Club of Hasbrought Heights
REFRESH-INTERVAL;VALUE=DURATION:PT1H
X-Robots-Tag:noindex
X-PUBLISHED-TTL:PT1H
BEGIN:VTIMEZONE
TZID:UTC
BEGIN:STANDARD
TZOFFSETFROM:+0000
TZOFFSETTO:+0000
TZNAME:UTC
DTSTART:20240101T000000
END:STANDARD
END:VTIMEZONE
BEGIN:VEVENT
DTSTART;TZID=UTC:20251026T140000
DTEND;TZID=UTC:20251026T170000
DTSTAMP:20260422T090725
CREATED:20250928T025046Z
LAST-MODIFIED:20250928T032359Z
UID:475-1761487200-1761498000@republicanclubofhh.com
SUMMARY:Trunk or Treat
DESCRIPTION:Join us for the Hasbrouck Heights Republican Club’s 5th Annual Trunk or Treat—a fun\, family-friendly afternoon of Halloween cheer! Neighbors decorate their car trunks and hand out candy so kids can trick-or-treat in one safe\, central spot. Costumes are encouraged and all ages are welcome. \nWhen: Sunday\, Oct 26\, 2:00–5:00 PM\nWhere: VFW Parking Lot – 513 Springfield Ave\nWho: Open to and free for all Hasbrouck Heights residents \n \nWant to be part of the fun as a decorated “trunk”? We’d love to have you. To participate\, please call 201-446-7461.\nHosted by the Hasbrouck Heights Republican Club. Bring your candy buckets and community spirit!
URL:https://republicanclubofhh.com/event/trunk-or-treat/
LOCATION:VFW Post 4591\, 513 Veterans Place\, HASBROUCK HEIGHTS\, NJ\, 07604\, United States
END:VEVENT
BEGIN:VEVENT
DTSTART;TZID=UTC:20250915T180000
DTEND;TZID=UTC:20250915T203000
DTSTAMP:20260422T090725
CREATED:20250902T012458Z
LAST-MODIFIED:20250902T012617Z
UID:332-1757959200-1757968200@republicanclubofhh.com
SUMMARY:Campaign KickOff & Cigar Night
DESCRIPTION:
URL:https://republicanclubofhh.com/event/campaign-kickoff-cigar-night/
LOCATION:VFW Post 4591\, 513 Veterans Place\, HASBROUCK HEIGHTS\, NJ\, 07604\, United States
ORGANIZER;CN="Republican Club of Hasbrouck Heights":MAILTO:republicanclubofhh@gmail.com
END:VEVENT
END:VCALENDAR